BEGIN:VCALENDAR
VERSION:2.0
PRODID:-//Etoile Sportive de Cannes - ECPv6.3.6//NONSGML v1.0//EN
CALSCALE:GREGORIAN
METHOD:PUBLISH
X-WR-CALNAME:Etoile Sportive de Cannes
X-ORIGINAL-URL:http://etoilesportivedecannes.com
X-WR-CALDESC:évènements pour Etoile Sportive de Cannes
REFRESH-INTERVAL;VALUE=DURATION:PT1H
X-Robots-Tag:noindex
X-PUBLISHED-TTL:PT1H
BEGIN:VTIMEZONE
TZID:Europe/Paris
BEGIN:DAYLIGHT
TZOFFSETFROM:+0100
TZOFFSETTO:+0200
TZNAME:CEST
DTSTART:20230326T010000
END:DAYLIGHT
BEGIN:STANDARD
TZOFFSETFROM:+0200
TZOFFSETTO:+0100
TZNAME:CET
DTSTART:20231029T010000
END:STANDARD
END:VTIMEZONE
BEGIN:VEVENT
DTSTART;TZID=Europe/Paris:20230402T080000
DTEND;TZID=Europe/Paris:20230402T123000
DTSTAMP:20260423T163600
CREATED:20230401T063002Z
LAST-MODIFIED:20230401T063024Z
UID:1765-1680422400-1680438600@etoilesportivedecannes.com
SUMMARY:Sortie club
DESCRIPTION:Départ 8 Heures   mairie \nMouans Sartoux  / Plascassier / Pré du lac / St Christophe \, Rotschild / Cabris /Speracedes  / St Cassien des bois / Tanneron  / Pegomas \nhttps://www.strava.com/routes/3077131854124259940
URL:http://etoilesportivedecannes.com/event/sortie-club/
CATEGORIES:SORTIE COMMUNE
END:VEVENT
BEGIN:VEVENT
DTSTART;TZID=Europe/Paris:20230408T080000
DTEND;TZID=Europe/Paris:20230408T123000
DTSTAMP:20260423T163600
CREATED:20230407T154434Z
LAST-MODIFIED:20230408T105206Z
UID:1772-1680940800-1680957000@etoilesportivedecannes.com
SUMMARY:St Raphael  /  la louve
DESCRIPTION:https://www.strava.com/activities/6934068328 \nDEPART 8 H MAIRIE
URL:http://etoilesportivedecannes.com/event/st-raphael-la-louve/
CATEGORIES:SORTIE COMMUNE
END:VEVENT
BEGIN:VEVENT
DTSTART;TZID=Europe/Paris:20230409T080000
DTEND;TZID=Europe/Paris:20230409T123000
DTSTAMP:20260423T163600
CREATED:20230408T105333Z
LAST-MODIFIED:20230408T105420Z
UID:1774-1681027200-1681043400@etoilesportivedecannes.com
SUMMARY:Sortie libre  Pâques
DESCRIPTION:
URL:http://etoilesportivedecannes.com/event/sortie-libre-paques/
CATEGORIES:SORTIE COMMUNE
END:VEVENT
BEGIN:VEVENT
DTSTART;TZID=Europe/Paris:20230415T080000
DTEND;TZID=Europe/Paris:20230415T123000
DTSTAMP:20260423T163600
CREATED:20230414T125841Z
LAST-MODIFIED:20230414T125904Z
UID:1785-1681545600-1681561800@etoilesportivedecannes.com
SUMMARY:proche arrière pays du samedi
DESCRIPTION:Départ 8H mairie \nGourdon / Caussols / St Vallier \nhttps://www.strava.com/routes/3081940932919579594
URL:http://etoilesportivedecannes.com/event/proche-arriere-pays-du-samedi/
CATEGORIES:SORTIE GROUPE 2
END:VEVENT
BEGIN:VEVENT
DTSTART;TZID=Europe/Paris:20230416T080000
DTEND;TZID=Europe/Paris:20230416T120000
DTSTAMP:20260423T163600
CREATED:20230414T130127Z
LAST-MODIFIED:20230414T130138Z
UID:1787-1681632000-1681646400@etoilesportivedecannes.com
SUMMARY:Rassemblement Le Rouret
DESCRIPTION:Parcours libre \nDépart  8H mairie
URL:http://etoilesportivedecannes.com/event/rassemblement-le-rouret/
CATEGORIES:SORTIE COMMUNE
END:VEVENT
BEGIN:VEVENT
DTSTART;TZID=Europe/Paris:20230423T073000
DTEND;TZID=Europe/Paris:20230423T123000
DTSTAMP:20260423T163600
CREATED:20230421T132659Z
LAST-MODIFIED:20230421T132707Z
UID:1795-1682235000-1682253000@etoilesportivedecannes.com
SUMMARY:Le Bougnon
DESCRIPTION:Départ 7h30 mairie \nFréjus par le Testanier  / le  Bougnon / les Issambres  /  St Raphael \nhttps://www.strava.com/routes/3084484199623569092
URL:http://etoilesportivedecannes.com/event/le-bougnon/
CATEGORIES:SORTIE COMMUNE
END:VEVENT
BEGIN:VEVENT
DTSTART;VALUE=DATE:20230429
DTEND;VALUE=DATE:20230430
DTSTAMP:20260423T163600
CREATED:20230306T202503Z
LAST-MODIFIED:20230420T160357Z
UID:1735-1682726400-1682812799@etoilesportivedecannes.com
SUMMARY:LAZARIDES GRAN FONDO
DESCRIPTION:SAMEDI 29 AVRIL 2023 \n  \nLAZARIDES GRAN FONDO \nbrochure velo LAZARIDES 2023 \nInscrivez-vous dès maintenant en cliquant sur le lien ci-dessous : \nAccueil \n \nou sur cet autre lien : \nLazarides 29 04 2023 \nsoit pour la course avec le petit ou le grand parcours\, soit pour la rando ou participer à l’organisation. \nGRANDE TOMBOLA : NOMBREUX LOTS A GAGNER\nRappel à tous : \ndès la remise du dossard. les participants s’engagent d’avoir pris pleinement connaissance du règlement \nle respect du code de la route est IMPERATIF car il s’agit d’une cyclosportive sur route ouverte à la circulation et non d’une course sur circuit sécurisé. \nMerci de noter : \n\nque les participants ont droit à une restauration\, contrairement à ce qui est annoncé sur le bulletin « extrait du règlement »\, à droite en bas de la page.\npour des raisons sécuritaires comme évoquées dans le règlement\, tout participant hors délais devra respecter les conditions de l’article 13 dudit règlement\, enlever son dossard\, au plus tard au ravitaillement de Mons et poursuivre sa route sous son entière responsabilité.\n\n 
URL:http://etoilesportivedecannes.com/event/lazarides-gran-fondo/
LOCATION:Siège de l’Étoile Sportive de Cannes\, Anneau louison Bobet\, avenue Maurice Chevalier\, Cannes la Bocca\, 06150\, France
CATEGORIES:CYCLOSPORTIVE
END:VEVENT
END:VCALENDAR