BEGIN:VCALENDAR
VERSION:2.0
PRODID:-//Etoile Sportive de Cannes - ECPv6.3.6//NONSGML v1.0//EN
CALSCALE:GREGORIAN
METHOD:PUBLISH
X-WR-CALNAME:Etoile Sportive de Cannes
X-ORIGINAL-URL:http://etoilesportivedecannes.com
X-WR-CALDESC:évènements pour Etoile Sportive de Cannes
REFRESH-INTERVAL;VALUE=DURATION:PT1H
X-Robots-Tag:noindex
X-PUBLISHED-TTL:PT1H
BEGIN:VTIMEZONE
TZID:Europe/Paris
BEGIN:DAYLIGHT
TZOFFSETFROM:+0100
TZOFFSETTO:+0200
TZNAME:CEST
DTSTART:20230326T010000
END:DAYLIGHT
BEGIN:STANDARD
TZOFFSETFROM:+0200
TZOFFSETTO:+0100
TZNAME:CET
DTSTART:20231029T010000
END:STANDARD
END:VTIMEZONE
BEGIN:VEVENT
DTSTART;VALUE=DATE:20230304
DTEND;VALUE=DATE:20230305
DTSTAMP:20260423T145248
CREATED:20230124T160427Z
LAST-MODIFIED:20230124T173444Z
UID:1697-1677888000-1677974399@etoilesportivedecannes.com
SUMMARY:Sortie ESC Cannes-San Remo
DESCRIPTION:Samedi 4 mars 2023 \nSortie Club Cannes San Remo par le bord de mer \nDépart 6h45 Mairie de Cannes \nParcours 1\nCannes-Menton 63 km environ (Casse-croute club gratuit pour les licenciés ou membres du club\,\n10 € pour les autres participants) Retour Cannes en vélo \nParcours 2\nCannes-Menton 63 km environ  (Casse-croute club gratuit pour les licenciés ou membres du club\,\n10 € pour les autres participants) Menton-San Remo (25 km) retour vélo \nParcours 3\nIdem Parcours 2 + 15€ si repas pour les licenciés ou membres du club et coût réel pour les autres participants (inscription obligatoire)\nBoissons comprises sauf alcool\nRetour vélo ou voiture à signaler \nInscription et renseignements sur le site (Contacts)\nConfirmation de la sortie le lundi 27 février 2023 en fonction de la météo \nCette sortie est indépendante de la sortie annuelle Cannes-Impéria prévue le 18 mars 2023 à l’occasion de la course Milan-San Remo (selon météo) et dont le repas est offert par le club aux licenciés et membres du club
URL:http://etoilesportivedecannes.com/event/sortie-esc-cannes-san-remo/
CATEGORIES:SORTIE COMMUNE
END:VEVENT
BEGIN:VEVENT
DTSTART;TZID=Europe/Paris:20230312T080000
DTEND;TZID=Europe/Paris:20230312T123000
DTSTAMP:20260423T145248
CREATED:20230310T090721Z
LAST-MODIFIED:20230310T180344Z
UID:1740-1678608000-1678624200@etoilesportivedecannes.com
SUMMARY:Tour  des 3 saints
DESCRIPTION:Départ 8H Mairie \nSt Jacques / St Cézaire / St Vallier \nhttps://www.strava.com/routes/3069199088223115634
URL:http://etoilesportivedecannes.com/event/tour-des-3-saints/
CATEGORIES:SORTIE COMMUNE
END:VEVENT
BEGIN:VEVENT
DTSTART;TZID=Europe/Paris:20230319T080000
DTEND;TZID=Europe/Paris:20230319T123000
DTSTAMP:20260423T145248
CREATED:20230317T085703Z
LAST-MODIFIED:20230317T085709Z
UID:1751-1679212800-1679229000@etoilesportivedecannes.com
SUMMARY:rassemblement à BIOT
DESCRIPTION:https://www.strava.com/routes/3071731977588424984 \nDépart mairie 8 heures \nPégomas / Tanneron par le Pa de l Ai  / Auribeau  / moulin de brun  / Plascassier  / Valbonne / vallée verte  / Biot  /  Antibes /  le cap \nEnviron 80 km \n950 D +
URL:http://etoilesportivedecannes.com/event/rassemblement-a-biot/
CATEGORIES:SORTIE COMMUNE
END:VEVENT
BEGIN:VEVENT
DTSTART;VALUE=DATE:20230325
DTEND;VALUE=DATE:20230326
DTSTAMP:20260423T145248
CREATED:20230124T163626Z
LAST-MODIFIED:20230323T173955Z
UID:1704-1679702400-1679788799@etoilesportivedecannes.com
SUMMARY:Sortie ESC Cannes-Imperia
DESCRIPTION:Samedi 25 mars 2023\n\n\nSortie Club Cannes-Imperia par le bord de mer \nElle est reportée au samedi 25 mars 2023 en raison des conditions météorologiques prévues. \nDépart 6h30 Mairie de Cannes \nParcours 1\nCannes-Menton 70 km environ (Casse-croute club gratuit pour les licenciés ou membres du club\,\n10 € pour les autres participants) Retour Cannes en vélo \nParcours 2\nCannes-Menton 70 km environ (Casse-croute club gratuit pour les licenciés ou membres du club\,\n10 € pour les autres participants) Menton-Imperia (60 km environ) retour vélo (sans repas club à Imperia) \nParcours 3\nIdem Parcours 2 (130 km environ) + repas et boissons (hors alcool) pris en charge par le club pour les licenciés  ou membres du club\, à charge pour les autres participants (inscription obligatoire)\nRetour vélo ou voiture à signaler au plus tard le 20 mars 2023 \nGroupe 1 \nDépart 7h30 Mairie de Cannes \nInscription et renseignements sur le site (Contacts)\nSortie confirmée \nPoints de regroupement : \nCafé Nice : 200m avant la fin de la Promenade des Anglais (pour ceux qui le prennent)\nPoint de vue Villefranche au début de la piste cyclable (sur trottoir)\nParking à la frontière (Menton) \nLieu de restauration à IMPERIA (Italie) à noter pour ne pas se perdre \nIl Pesce Matto Imperia\nLungomare C. Colombo\, 140\,\n18100 IMPERIA IM\, Italie\ntel : 39 0183 754557 \nVoiture Balai conduite par Marc\nEn cas de souci technique ou autre\, le contacter au 06 72 00 94 39
URL:http://etoilesportivedecannes.com/event/1704/
LOCATION:CANNES/IMPERIA
CATEGORIES:SORTIE COMMUNE
END:VEVENT
BEGIN:VEVENT
DTSTART;TZID=Europe/Paris:20230326T080000
DTEND;TZID=Europe/Paris:20230326T123000
DTSTAMP:20260423T145248
CREATED:20230324T123255Z
LAST-MODIFIED:20230324T123336Z
UID:1761-1679817600-1679833800@etoilesportivedecannes.com
SUMMARY:sortie club  /  café à Tourrettes
DESCRIPTION:ATTENTION AU CHANGEMENT HEURE D ETE \nDépart 8 heures mairie  \nhttps://www.strava.com/routes/3074275106107595402
URL:http://etoilesportivedecannes.com/event/sortie-club-cafe-a-tourrettes/
CATEGORIES:SORTIE COMMUNE
END:VEVENT
END:VCALENDAR