BEGIN:VCALENDAR
VERSION:2.0
PRODID:-//Etoile Sportive de Cannes - ECPv6.3.6//NONSGML v1.0//EN
CALSCALE:GREGORIAN
METHOD:PUBLISH
X-WR-CALNAME:Etoile Sportive de Cannes
X-ORIGINAL-URL:http://etoilesportivedecannes.com
X-WR-CALDESC:évènements pour Etoile Sportive de Cannes
REFRESH-INTERVAL;VALUE=DURATION:PT1H
X-Robots-Tag:noindex
X-PUBLISHED-TTL:PT1H
BEGIN:VTIMEZONE
TZID:Europe/Paris
BEGIN:DAYLIGHT
TZOFFSETFROM:+0100
TZOFFSETTO:+0200
TZNAME:CEST
DTSTART:20230326T010000
END:DAYLIGHT
BEGIN:STANDARD
TZOFFSETFROM:+0200
TZOFFSETTO:+0100
TZNAME:CET
DTSTART:20231029T010000
END:STANDARD
END:VTIMEZONE
BEGIN:VEVENT
DTSTART;VALUE=DATE:20230205
DTEND;VALUE=DATE:20230206
DTSTAMP:20260423T132252
CREATED:20230124T154643Z
LAST-MODIFIED:20230203T170856Z
UID:1688-1675555200-1675641599@etoilesportivedecannes.com
SUMMARY:Gentleman Cannes 2023 (annulé)
DESCRIPTION:Je vous informe que les circonstances actuelles ne permettent pas la mise en oeuvre de la « 72e édition des Gentemen de Cannes ». \nAinsi\, pour des raisons de sécurité\, c’est avec regret que le club a décidé l’annulation de cette manifestation sportive  prévue le dimanche 5 février 2023. \nCroyez que nous déplorons cette décision car l’Etoile Sportive de Cannes a toujours œuvré à la tenue de cette épreuve dans laquelle ont participé et où se sont illustrés les grands noms du cyclisme. \nAussi\, nous prenons rendez-vous cette année pour une prochaine édition à une date ultérieure dès que le calendrier le permettra\, et souhaitons que nos amis cyclistes comprennent cette décision. \nD’autre part\, je précise que le remboursement des équipes inscrites à ce jour sera possible à la permanence à notre siège (Anneau cycliste Maurice Chevallier)  samedi 4 février après-midi. \nVous pourrez aussi obtenir plus d’informations sur cette annulation exceptionnelle. \nAmitiés sportives\, \nGérard Ruiz \nPrésident de l’Etoile Sportive de Cannes
URL:http://etoilesportivedecannes.com/event/gentleman-cannes-2023/
LOCATION:Croisette Cannes
CATEGORIES:COURSE
END:VEVENT
BEGIN:VEVENT
DTSTART;TZID=Europe/Paris:20230219T080000
DTEND;TZID=Europe/Paris:20230219T123000
DTSTAMP:20260423T132252
CREATED:20230217T191908Z
LAST-MODIFIED:20230217T191953Z
UID:1724-1676793600-1676809800@etoilesportivedecannes.com
SUMMARY:Dimanche19/2 ::::::::: FETE DU VELO à VILLEFRANCHE aux marinières
DESCRIPTION:Départ Mairie  8 H \nLE CAP / NICE / VILLEFRANCHE /retour par le mont Boron ensuite le Cap facultatif \nvillefranche retour par mont boron | Itinéraire de sortie à vélo de 94\,4 km sur Strava  https://www.strava.com/routes/3061733573448038516
URL:http://etoilesportivedecannes.com/event/dimanche19-2-fete-du-velo-a-villefranche-aux-marinieres/
END:VEVENT
BEGIN:VEVENT
DTSTART;TZID=Europe/Paris:20230225T080000
DTEND;TZID=Europe/Paris:20230225T123000
DTSTAMP:20260423T132252
CREATED:20230223T195148Z
LAST-MODIFIED:20230223T195148Z
UID:1727-1677312000-1677328200@etoilesportivedecannes.com
SUMMARY:SORTIE CLUB   St RAPHAEL - Agay -Testanier
DESCRIPTION:https://www.strava.com/routes/3063923696492884836 \nDépart 8 H   Mairie \nSt Raphael bord de mer /retour sur Agay / les golfs / Testanier
URL:http://etoilesportivedecannes.com/event/sortie-club-st-raphael-agay-testanier/
CATEGORIES:SORTIE GROUPE 2
END:VEVENT
END:VCALENDAR