BEGIN:VCALENDAR
VERSION:2.0
PRODID:-//Etoile Sportive de Cannes - ECPv6.3.6//NONSGML v1.0//EN
CALSCALE:GREGORIAN
METHOD:PUBLISH
X-ORIGINAL-URL:http://etoilesportivedecannes.com
X-WR-CALDESC:évènements pour Etoile Sportive de Cannes
REFRESH-INTERVAL;VALUE=DURATION:PT1H
X-Robots-Tag:noindex
X-PUBLISHED-TTL:PT1H
BEGIN:VTIMEZONE
TZID:Europe/Paris
BEGIN:DAYLIGHT
TZOFFSETFROM:+0100
TZOFFSETTO:+0200
TZNAME:CEST
DTSTART:20230326T010000
END:DAYLIGHT
BEGIN:STANDARD
TZOFFSETFROM:+0200
TZOFFSETTO:+0100
TZNAME:CET
DTSTART:20231029T010000
END:STANDARD
END:VTIMEZONE
BEGIN:VEVENT
DTSTART;TZID=Europe/Paris:20230128T160000
DTEND;TZID=Europe/Paris:20230128T180000
DTSTAMP:20260423T114855
CREATED:20230124T160423Z
LAST-MODIFIED:20230124T160423Z
UID:1698-1674921600-1674928800@etoilesportivedecannes.com
SUMMARY:Galettes des ROIS
DESCRIPTION:
URL:http://etoilesportivedecannes.com/event/galettes-des-rois/
LOCATION:Palais des Victoires\, Cannes La Bocca\, 06150
END:VEVENT
END:VCALENDAR