BEGIN:VCALENDAR
VERSION:2.0
PRODID:-//Etoile Sportive de Cannes - ECPv6.3.6//NONSGML v1.0//EN
CALSCALE:GREGORIAN
METHOD:PUBLISH
X-WR-CALNAME:Etoile Sportive de Cannes
X-ORIGINAL-URL:http://etoilesportivedecannes.com
X-WR-CALDESC:évènements pour Etoile Sportive de Cannes
REFRESH-INTERVAL;VALUE=DURATION:PT1H
X-Robots-Tag:noindex
X-PUBLISHED-TTL:PT1H
BEGIN:VTIMEZONE
TZID:Europe/Paris
BEGIN:DAYLIGHT
TZOFFSETFROM:+0100
TZOFFSETTO:+0200
TZNAME:CEST
DTSTART:20200329T010000
END:DAYLIGHT
BEGIN:STANDARD
TZOFFSETFROM:+0200
TZOFFSETTO:+0100
TZNAME:CET
DTSTART:20201025T010000
END:STANDARD
END:VTIMEZONE
BEGIN:VEVENT
DTSTART;TZID=Europe/Paris:20200526T080000
DTEND;TZID=Europe/Paris:20200526T123000
DTSTAMP:20260423T145250
CREATED:20200525T161023Z
LAST-MODIFIED:20200525T161030Z
UID:1563-1590480000-1590496200@etoilesportivedecannes.com
SUMMARY:GR 2  mardi 26 mai
DESCRIPTION:depart mairie 8h     https://www.strava.com/routes/24114881 \nAntibes direct \nCagnes / St Jeannet  / Gattieres /Carros / Pont de l Estéron \nVilleneuve Loubet /Antibes /Cannes  direct \nenviron 100 km  sans difficulté
URL:http://etoilesportivedecannes.com/event/gr-2-mardi-26-mai/
CATEGORIES:SORTIE GROUPE 2
END:VEVENT
BEGIN:VEVENT
DTSTART;TZID=Europe/Paris:20200531T070000
DTEND;TZID=Europe/Paris:20200531T123000
DTSTAMP:20260423T145250
CREATED:20200528T112546Z
LAST-MODIFIED:20200528T112551Z
UID:1565-1590908400-1590928200@etoilesportivedecannes.com
SUMMARY:GR 2 DURANUS  // 135 km  -------1000 D+
DESCRIPTION:DEPART 7 HEURES PLACE VAUBAN \nAntibes par chemin des sables \nSt Laurent  /Pont Charles Albert / St Jean la rivière /Duranus \ncote de Levens / St Blaise  / les moulins /Piste cyclable / La baronne /Cagnes \n 
URL:http://etoilesportivedecannes.com/event/gr-2-duranus-135-km-1000-d/
CATEGORIES:SORTIE GROUPE 2
END:VEVENT
END:VCALENDAR