BEGIN:VCALENDAR
VERSION:2.0
PRODID:-//Etoile Sportive de Cannes - ECPv6.3.6//NONSGML v1.0//EN
CALSCALE:GREGORIAN
METHOD:PUBLISH
X-ORIGINAL-URL:http://etoilesportivedecannes.com
X-WR-CALDESC:évènements pour Etoile Sportive de Cannes
REFRESH-INTERVAL;VALUE=DURATION:PT1H
X-Robots-Tag:noindex
X-PUBLISHED-TTL:PT1H
BEGIN:VTIMEZONE
TZID:Europe/Paris
BEGIN:DAYLIGHT
TZOFFSETFROM:+0100
TZOFFSETTO:+0200
TZNAME:CEST
DTSTART:20190331T010000
END:DAYLIGHT
BEGIN:STANDARD
TZOFFSETFROM:+0200
TZOFFSETTO:+0100
TZNAME:CET
DTSTART:20191027T010000
END:STANDARD
END:VTIMEZONE
BEGIN:VEVENT
DTSTART;TZID=Europe/Paris:20191003T080000
DTEND;TZID=Europe/Paris:20191003T170000
DTSTAMP:20260424T021318
CREATED:20190517T060155Z
LAST-MODIFIED:20190517T060155Z
UID:955-1570089600-1570122000@etoilesportivedecannes.com
SUMMARY:AG du Conseil d'Administration E.S.CANNES
DESCRIPTION:
URL:http://etoilesportivedecannes.com/event/ag-du-conseil-dadministration-e-s-cannes/
END:VEVENT
BEGIN:VEVENT
DTSTART;TZID=Europe/Paris:20191010T080000
DTEND;TZID=Europe/Paris:20191013T170000
DTSTAMP:20260424T021318
CREATED:20190517T060124Z
LAST-MODIFIED:20190517T060124Z
UID:953-1570694400-1570986000@etoilesportivedecannes.com
SUMMARY:ROC AZUR à Fréjus
DESCRIPTION:
URL:http://etoilesportivedecannes.com/event/roc-azur-a-frejus/
END:VEVENT
BEGIN:VEVENT
DTSTART;TZID=Europe/Paris:20191014T080000
DTEND;TZID=Europe/Paris:20191014T170000
DTSTAMP:20260424T021318
CREATED:20191014T205139Z
LAST-MODIFIED:20191014T205139Z
UID:1082-1571040000-1571072400@etoilesportivedecannes.com
SUMMARY:La Sortie du Ventoux
DESCRIPTION:  \nBELLE SORTIE \n \n 
URL:http://etoilesportivedecannes.com/event/la-sortie-du-ventoux/
CATEGORIES:SORTIE GROUPE 4
END:VEVENT
BEGIN:VEVENT
DTSTART;TZID=Europe/Paris:20191019T080000
DTEND;TZID=Europe/Paris:20191019T170000
DTSTAMP:20260424T021318
CREATED:20190405T123029Z
LAST-MODIFIED:20190405T123029Z
UID:679-1571472000-1571504400@etoilesportivedecannes.com
SUMMARY:SORTIE LES COPAINS D'ABORD - Octobre - groupe 3 par Marc LAENEN
DESCRIPTION:Cannes-Roquebrune col Valdingarde- st maxime-cannes 140km – Repas st maxime \nreportée au 26 si mauvais temps
URL:http://etoilesportivedecannes.com/event/sortie-les-copains-dabord-octobre-groupe-3-par-marc-laenen/
END:VEVENT
BEGIN:VEVENT
DTSTART;TZID=Europe/Paris:20191019T150000
DTEND;TZID=Europe/Paris:20191019T183000
DTSTAMP:20260424T021318
CREATED:20191014T201937Z
LAST-MODIFIED:20191014T201937Z
UID:1073-1571497200-1571509800@etoilesportivedecannes.com
SUMMARY:Assemblée Générale de L;Etoile Sportive de Cannes
DESCRIPTION:
URL:http://etoilesportivedecannes.com/event/assemblee-generale-de-letoile-sportive-de-cannes-2/
LOCATION:Piste Cyclable\, 2 Avenue Maurice Chevalier\, Cannes
END:VEVENT
BEGIN:VEVENT
DTSTART;TZID=Europe/Paris:20191026T080000
DTEND;TZID=Europe/Paris:20191026T123000
DTSTAMP:20260424T021318
CREATED:20191023T174651Z
LAST-MODIFIED:20191023T174734Z
UID:1175-1572076800-1572093000@etoilesportivedecannes.com
SUMMARY:Groupe 2   St Raphael
DESCRIPTION:Départ mairie \nport Santa Lucia \nretour bord de mer ou Testanier \n80 Km
URL:http://etoilesportivedecannes.com/event/groupe-2-st-raphael/
END:VEVENT
BEGIN:VEVENT
DTSTART;TZID=Europe/Paris:20191027T073000
DTEND;TZID=Europe/Paris:20191027T123000
DTSTAMP:20260424T021318
CREATED:20191023T171609Z
LAST-MODIFIED:20191023T172520Z
UID:1169-1572161400-1572179400@etoilesportivedecannes.com
SUMMARY:SORTIE GROUPE 2
DESCRIPTION:ATTENTION HEURE D HIVER \nRassemblement mont des mules \nNice/moyenne corniche/Eze/laTurbie  le Defens .Retour meme itineraire \n105 KM / 980 d+ \n  \n  \n 
URL:http://etoilesportivedecannes.com/event/sortie-groupe-2/
END:VEVENT
BEGIN:VEVENT
DTSTART;TZID=Europe/Paris:20191029T080000
DTEND;TZID=Europe/Paris:20191029T123000
DTSTAMP:20260424T021318
CREATED:20191028T095849Z
LAST-MODIFIED:20191028T095857Z
UID:1185-1572336000-1572352200@etoilesportivedecannes.com
SUMMARY:Groupe 2
DESCRIPTION:Depart _8H  MAIRIE \nANTIBES direct par chemin des sables \nCagnes – Baronne – pont de la Manda – Carros village \nCAFE à Gattieres – St Jeannet – la Gaude – Cagnes – Antibes \n680 d+ \nEnviron 90km \nhttps://www.strava.com/routes/22421222https://www.strava.com/routes/22421222
URL:http://etoilesportivedecannes.com/event/groupe-2-3/
CATEGORIES:SORTIE GROUPE 2
END:VEVENT
END:VCALENDAR