BEGIN:VCALENDAR
VERSION:2.0
PRODID:-//Etoile Sportive de Cannes - ECPv6.3.6//NONSGML v1.0//EN
CALSCALE:GREGORIAN
METHOD:PUBLISH
X-ORIGINAL-URL:http://etoilesportivedecannes.com
X-WR-CALDESC:évènements pour Etoile Sportive de Cannes
REFRESH-INTERVAL;VALUE=DURATION:PT1H
X-Robots-Tag:noindex
X-PUBLISHED-TTL:PT1H
BEGIN:VTIMEZONE
TZID:Europe/Paris
BEGIN:DAYLIGHT
TZOFFSETFROM:+0100
TZOFFSETTO:+0200
TZNAME:CEST
DTSTART:20190331T010000
END:DAYLIGHT
BEGIN:STANDARD
TZOFFSETFROM:+0200
TZOFFSETTO:+0100
TZNAME:CET
DTSTART:20191027T010000
END:STANDARD
END:VTIMEZONE
BEGIN:VEVENT
DTSTART;TZID=Europe/Paris:20190803T080000
DTEND;TZID=Europe/Paris:20190803T130000
DTSTAMP:20260424T052142
CREATED:20190802T134631Z
LAST-MODIFIED:20190802T134631Z
UID:1059-1564819200-1564837200@etoilesportivedecannes.com
SUMMARY:03/08/19
DESCRIPTION:https://www.strava.com/routes/20736616 \nannule et remplace la sortie de st vallier
URL:http://etoilesportivedecannes.com/event/03-08-19/
CATEGORIES:SORTIE GROUPE 1
END:VEVENT
BEGIN:VEVENT
DTSTART;TZID=Europe/Paris:20190803T080000
DTEND;TZID=Europe/Paris:20190803T143000
DTSTAMP:20260424T052142
CREATED:20190731T171117Z
LAST-MODIFIED:20190731T171117Z
UID:1057-1564819200-1564842600@etoilesportivedecannes.com
SUMMARY:sortie du 03/08/19 à confirmer!
DESCRIPTION:depart de st vallier à 8 h si on se met d’accord retour pour 14:30https://www.strava.com/routes/20690129
URL:http://etoilesportivedecannes.com/event/sortie-du-03-08-19-a-confirmer/
CATEGORIES:SORTIE GROUPE 1
END:VEVENT
BEGIN:VEVENT
DTSTART;TZID=Europe/Paris:20190825T080000
DTEND;TZID=Europe/Paris:20190825T170000
DTSTAMP:20260424T052142
CREATED:20190517T055923Z
LAST-MODIFIED:20190517T055923Z
UID:947-1566720000-1566752400@etoilesportivedecannes.com
SUMMARY:Cyclo " Mercantour Turini
DESCRIPTION:
URL:http://etoilesportivedecannes.com/event/cyclo-mercantour-turini/
END:VEVENT
END:VCALENDAR