BEGIN:VCALENDAR
VERSION:2.0
PRODID:-//Etoile Sportive de Cannes - ECPv6.3.6//NONSGML v1.0//EN
CALSCALE:GREGORIAN
METHOD:PUBLISH
X-WR-CALNAME:Etoile Sportive de Cannes
X-ORIGINAL-URL:http://etoilesportivedecannes.com
X-WR-CALDESC:évènements pour Etoile Sportive de Cannes
REFRESH-INTERVAL;VALUE=DURATION:PT1H
X-Robots-Tag:noindex
X-PUBLISHED-TTL:PT1H
BEGIN:VTIMEZONE
TZID:Europe/Paris
BEGIN:DAYLIGHT
TZOFFSETFROM:+0100
TZOFFSETTO:+0200
TZNAME:CEST
DTSTART:20190331T010000
END:DAYLIGHT
BEGIN:STANDARD
TZOFFSETFROM:+0200
TZOFFSETTO:+0100
TZNAME:CET
DTSTART:20191027T010000
END:STANDARD
END:VTIMEZONE
BEGIN:VEVENT
DTSTART;TZID=Europe/Paris:20190706T073000
DTEND;TZID=Europe/Paris:20190706T143000
DTSTAMP:20260424T070246
CREATED:20190704T183721Z
LAST-MODIFIED:20190704T183721Z
UID:1050-1562398200-1562423400@etoilesportivedecannes.com
SUMMARY:sortie du06/07/2019
DESCRIPTION:https://www.strava.com/routes/20024828 \ndepart tot 7h30 du rond point de plein ciel mougins rentré en debut d’apres midi casse croute sur la route
URL:http://etoilesportivedecannes.com/event/sortie-du06-07-2019/
CATEGORIES:SORTIE GROUPE 1
END:VEVENT
BEGIN:VEVENT
DTSTART;TZID=Europe/Paris:20190720T073000
DTEND;TZID=Europe/Paris:20190720T143000
DTSTAMP:20260424T070246
CREATED:20190719T114723Z
LAST-MODIFIED:20190719T114723Z
UID:1054-1563607800-1563633000@etoilesportivedecannes.com
SUMMARY:20/07/2019
DESCRIPTION:sortie du 20/07/2019 départ 7;30 du rond point de plein ciel mougins rentree 14:30 casse croute sur la routehttps://www.strava.com/routes/20381320 \n 
URL:http://etoilesportivedecannes.com/event/20-07-2019/
CATEGORIES:SORTIE GROUPE 1
END:VEVENT
BEGIN:VEVENT
DTSTART;TZID=Europe/Paris:20190720T080000
DTEND;TZID=Europe/Paris:20190720T170000
DTSTAMP:20260424T070246
CREATED:20190405T122127Z
LAST-MODIFIED:20190405T122127Z
UID:675-1563609600-1563642000@etoilesportivedecannes.com
SUMMARY:SORTIE LES COPAINS D'ABORD - juillet - groupe 3 par Marc LAENEN
DESCRIPTION:cannes-bagnols roquebrunes par col du blavet 130km repas Roquebrune \nReportée au 20/07 si mauvais temps
URL:http://etoilesportivedecannes.com/event/sortie-les-copains-dabord-juillet-groupe-3-par-marc-laenen/
END:VEVENT
BEGIN:VEVENT
DTSTART;TZID=Europe/Paris:20190721T080000
DTEND;TZID=Europe/Paris:20190721T170000
DTSTAMP:20260424T070246
CREATED:20190415T093634Z
LAST-MODIFIED:20190415T094227Z
UID:764-1563696000-1563728400@etoilesportivedecannes.com
SUMMARY:ETAPE DU TOUR - ALBERTVILLE - VAL THORENS
DESCRIPTION:Merci aux engagés de se faire connaitre pour pouvoir essayer d’organiser un rv convivial avant la course. Contacter Alain Prosper : a1.prosper@orange.fr merci \nhttp://www.letapedutour.com/fr
URL:http://etoilesportivedecannes.com/event/boucles-du-verdon-cyclosportive/
END:VEVENT
END:VCALENDAR