BEGIN:VCALENDAR
VERSION:2.0
PRODID:-//Etoile Sportive de Cannes - ECPv6.3.6//NONSGML v1.0//EN
CALSCALE:GREGORIAN
METHOD:PUBLISH
X-WR-CALNAME:Etoile Sportive de Cannes
X-ORIGINAL-URL:http://etoilesportivedecannes.com
X-WR-CALDESC:évènements pour Etoile Sportive de Cannes
REFRESH-INTERVAL;VALUE=DURATION:PT1H
X-Robots-Tag:noindex
X-PUBLISHED-TTL:PT1H
BEGIN:VTIMEZONE
TZID:Europe/Paris
BEGIN:DAYLIGHT
TZOFFSETFROM:+0100
TZOFFSETTO:+0200
TZNAME:CEST
DTSTART:20240331T010000
END:DAYLIGHT
BEGIN:STANDARD
TZOFFSETFROM:+0200
TZOFFSETTO:+0100
TZNAME:CET
DTSTART:20241027T010000
END:STANDARD
END:VTIMEZONE
BEGIN:VEVENT
DTSTART;TZID=Europe/Paris:20240211T083000
DTEND;TZID=Europe/Paris:20240211T120000
DTSTAMP:20260423T225703
CREATED:20240126T151358Z
LAST-MODIFIED:20240126T191828Z
UID:1822-1707640200-1707652800@etoilesportivedecannes.com
SUMMARY:Gentleman de Cannes 2024
DESCRIPTION:Vendredi 26 Janvier 2024 \n  \nBonjour à Tous\, \nJe vous informe que  la mise en oeuvre de la « 72e édition des Gentemen de Cannes/61ème Souvenir Fausto Coppi » le 11 février 2024. \nPour ce début de 2024\, voici les informations sur cet évènement remarquable de notre calendrier sportif. \nVous constaerez que le parcours est totalement modifié et se déroule en totalité sur la ville de Cannes. \nVous trouverez cijoints l’affiche de cet évènement\, la note de présentation\, le plan du parcours ainsi que le règlement. \naffiche gentlemen 2024 V2 \nnote de présentation Gentleman Cannes 2024 \nPARCOURS Gentleman Cannes 2024 PLAN V1 \nRèglement gentlemen 2024 \nNous comptons sur vos participations \nAmitiés sportives\, \nGérard Ruiz \nPrésident de l’Etoile Sportive de Cannes
URL:http://etoilesportivedecannes.com/event/1822/
CATEGORIES:CYCLOSPORTIVE
END:VEVENT
END:VCALENDAR