BEGIN:VCALENDAR
VERSION:2.0
PRODID:-//Etoile Sportive de Cannes - ECPv6.3.6//NONSGML v1.0//EN
CALSCALE:GREGORIAN
METHOD:PUBLISH
X-WR-CALNAME:Etoile Sportive de Cannes
X-ORIGINAL-URL:http://etoilesportivedecannes.com
X-WR-CALDESC:évènements pour Etoile Sportive de Cannes
REFRESH-INTERVAL;VALUE=DURATION:PT1H
X-Robots-Tag:noindex
X-PUBLISHED-TTL:PT1H
BEGIN:VTIMEZONE
TZID:Europe/Paris
BEGIN:DAYLIGHT
TZOFFSETFROM:+0100
TZOFFSETTO:+0200
TZNAME:CEST
DTSTART:20230326T010000
END:DAYLIGHT
BEGIN:STANDARD
TZOFFSETFROM:+0200
TZOFFSETTO:+0100
TZNAME:CET
DTSTART:20231029T010000
END:STANDARD
END:VTIMEZONE
BEGIN:VEVENT
DTSTART;TZID=Europe/Paris:20230507T073000
DTEND;TZID=Europe/Paris:20230507T123000
DTSTAMP:20260423T194407
CREATED:20230503T181612Z
LAST-MODIFIED:20230504T175453Z
UID:1798-1683444600-1683462600@etoilesportivedecannes.com
SUMMARY:Rassemblement à Menton ou col de Vence /Cipieres
DESCRIPTION:1    départ mairie 7H30  pour Menton \ndirect A/R   125 KM \nD+750 \n  \n2   départ mairie 7 h pour col de Vence \n110 KM \n1500 D+ \nhttps://www.strava.com/routes/3089262892907723600
URL:http://etoilesportivedecannes.com/event/rassemblement-a-menton/
CATEGORIES:SORTIE COMMUNE,SORTIE GROUPE 2
END:VEVENT
END:VCALENDAR