BEGIN:VCALENDAR
VERSION:2.0
PRODID:-//Etoile Sportive de Cannes - ECPv6.3.6//NONSGML v1.0//EN
CALSCALE:GREGORIAN
METHOD:PUBLISH
X-ORIGINAL-URL:http://etoilesportivedecannes.com
X-WR-CALDESC:évènements pour Etoile Sportive de Cannes
REFRESH-INTERVAL;VALUE=DURATION:PT1H
X-Robots-Tag:noindex
X-PUBLISHED-TTL:PT1H
BEGIN:VTIMEZONE
TZID:Europe/Paris
BEGIN:DAYLIGHT
TZOFFSETFROM:+0100
TZOFFSETTO:+0200
TZNAME:CEST
DTSTART:20230326T010000
END:DAYLIGHT
BEGIN:STANDARD
TZOFFSETFROM:+0200
TZOFFSETTO:+0100
TZNAME:CET
DTSTART:20231029T010000
END:STANDARD
END:VTIMEZONE
BEGIN:VEVENT
DTSTART;TZID=Europe/Paris:20230408T080000
DTEND;TZID=Europe/Paris:20230408T123000
DTSTAMP:20260423T180939
CREATED:20230407T154434Z
LAST-MODIFIED:20230408T105206Z
UID:1772-1680940800-1680957000@etoilesportivedecannes.com
SUMMARY:St Raphael  /  la louve
DESCRIPTION:https://www.strava.com/activities/6934068328 \nDEPART 8 H MAIRIE
URL:http://etoilesportivedecannes.com/event/st-raphael-la-louve/
CATEGORIES:SORTIE COMMUNE
END:VEVENT
END:VCALENDAR