BEGIN:VCALENDAR
VERSION:2.0
PRODID:-//Etoile Sportive de Cannes - ECPv6.3.6//NONSGML v1.0//EN
CALSCALE:GREGORIAN
METHOD:PUBLISH
X-WR-CALNAME:Etoile Sportive de Cannes
X-ORIGINAL-URL:http://etoilesportivedecannes.com
X-WR-CALDESC:évènements pour Etoile Sportive de Cannes
REFRESH-INTERVAL;VALUE=DURATION:PT1H
X-Robots-Tag:noindex
X-PUBLISHED-TTL:PT1H
BEGIN:VTIMEZONE
TZID:Europe/Paris
BEGIN:DAYLIGHT
TZOFFSETFROM:+0100
TZOFFSETTO:+0200
TZNAME:CEST
DTSTART:20230326T010000
END:DAYLIGHT
BEGIN:STANDARD
TZOFFSETFROM:+0200
TZOFFSETTO:+0100
TZNAME:CET
DTSTART:20231029T010000
END:STANDARD
END:VTIMEZONE
BEGIN:VEVENT
DTSTART;TZID=Europe/Paris:20230402T080000
DTEND;TZID=Europe/Paris:20230402T123000
DTSTAMP:20260423T163523
CREATED:20230401T063002Z
LAST-MODIFIED:20230401T063024Z
UID:1765-1680422400-1680438600@etoilesportivedecannes.com
SUMMARY:Sortie club
DESCRIPTION:Départ 8 Heures   mairie \nMouans Sartoux  / Plascassier / Pré du lac / St Christophe \, Rotschild / Cabris /Speracedes  / St Cassien des bois / Tanneron  / Pegomas \nhttps://www.strava.com/routes/3077131854124259940
URL:http://etoilesportivedecannes.com/event/sortie-club/
CATEGORIES:SORTIE COMMUNE
END:VEVENT
END:VCALENDAR