BEGIN:VCALENDAR
VERSION:2.0
PRODID:-//Etoile Sportive de Cannes - ECPv6.3.6//NONSGML v1.0//EN
CALSCALE:GREGORIAN
METHOD:PUBLISH
X-WR-CALNAME:Etoile Sportive de Cannes
X-ORIGINAL-URL:http://etoilesportivedecannes.com
X-WR-CALDESC:évènements pour Etoile Sportive de Cannes
REFRESH-INTERVAL;VALUE=DURATION:PT1H
X-Robots-Tag:noindex
X-PUBLISHED-TTL:PT1H
BEGIN:VTIMEZONE
TZID:Europe/Paris
BEGIN:DAYLIGHT
TZOFFSETFROM:+0100
TZOFFSETTO:+0200
TZNAME:CEST
DTSTART:20230326T010000
END:DAYLIGHT
BEGIN:STANDARD
TZOFFSETFROM:+0200
TZOFFSETTO:+0100
TZNAME:CET
DTSTART:20231029T010000
END:STANDARD
END:VTIMEZONE
BEGIN:VEVENT
DTSTART;VALUE=DATE:20230325
DTEND;VALUE=DATE:20230326
DTSTAMP:20260423T163712
CREATED:20230124T163626Z
LAST-MODIFIED:20230323T173955Z
UID:1704-1679702400-1679788799@etoilesportivedecannes.com
SUMMARY:Sortie ESC Cannes-Imperia
DESCRIPTION:Samedi 25 mars 2023\n\n\nSortie Club Cannes-Imperia par le bord de mer \nElle est reportée au samedi 25 mars 2023 en raison des conditions météorologiques prévues. \nDépart 6h30 Mairie de Cannes \nParcours 1\nCannes-Menton 70 km environ (Casse-croute club gratuit pour les licenciés ou membres du club\,\n10 € pour les autres participants) Retour Cannes en vélo \nParcours 2\nCannes-Menton 70 km environ (Casse-croute club gratuit pour les licenciés ou membres du club\,\n10 € pour les autres participants) Menton-Imperia (60 km environ) retour vélo (sans repas club à Imperia) \nParcours 3\nIdem Parcours 2 (130 km environ) + repas et boissons (hors alcool) pris en charge par le club pour les licenciés  ou membres du club\, à charge pour les autres participants (inscription obligatoire)\nRetour vélo ou voiture à signaler au plus tard le 20 mars 2023 \nGroupe 1 \nDépart 7h30 Mairie de Cannes \nInscription et renseignements sur le site (Contacts)\nSortie confirmée \nPoints de regroupement : \nCafé Nice : 200m avant la fin de la Promenade des Anglais (pour ceux qui le prennent)\nPoint de vue Villefranche au début de la piste cyclable (sur trottoir)\nParking à la frontière (Menton) \nLieu de restauration à IMPERIA (Italie) à noter pour ne pas se perdre \nIl Pesce Matto Imperia\nLungomare C. Colombo\, 140\,\n18100 IMPERIA IM\, Italie\ntel : 39 0183 754557 \nVoiture Balai conduite par Marc\nEn cas de souci technique ou autre\, le contacter au 06 72 00 94 39
URL:http://etoilesportivedecannes.com/event/1704/
LOCATION:CANNES/IMPERIA
CATEGORIES:SORTIE COMMUNE
END:VEVENT
END:VCALENDAR