BEGIN:VCALENDAR
VERSION:2.0
PRODID:-//Etoile Sportive de Cannes - ECPv6.3.6//NONSGML v1.0//EN
CALSCALE:GREGORIAN
METHOD:PUBLISH
X-WR-CALNAME:Etoile Sportive de Cannes
X-ORIGINAL-URL:http://etoilesportivedecannes.com
X-WR-CALDESC:évènements pour Etoile Sportive de Cannes
REFRESH-INTERVAL;VALUE=DURATION:PT1H
X-Robots-Tag:noindex
X-PUBLISHED-TTL:PT1H
BEGIN:VTIMEZONE
TZID:Europe/Paris
BEGIN:DAYLIGHT
TZOFFSETFROM:+0100
TZOFFSETTO:+0200
TZNAME:CEST
DTSTART:20230326T010000
END:DAYLIGHT
BEGIN:STANDARD
TZOFFSETFROM:+0200
TZOFFSETTO:+0100
TZNAME:CET
DTSTART:20231029T010000
END:STANDARD
END:VTIMEZONE
BEGIN:VEVENT
DTSTART;TZID=Europe/Paris:20230225T080000
DTEND;TZID=Europe/Paris:20230225T123000
DTSTAMP:20260423T145849
CREATED:20230223T195148Z
LAST-MODIFIED:20230223T195148Z
UID:1727-1677312000-1677328200@etoilesportivedecannes.com
SUMMARY:SORTIE CLUB   St RAPHAEL - Agay -Testanier
DESCRIPTION:https://www.strava.com/routes/3063923696492884836 \nDépart 8 H   Mairie \nSt Raphael bord de mer /retour sur Agay / les golfs / Testanier
URL:http://etoilesportivedecannes.com/event/sortie-club-st-raphael-agay-testanier/
CATEGORIES:SORTIE GROUPE 2
END:VEVENT
END:VCALENDAR