BEGIN:VCALENDAR
VERSION:2.0
PRODID:-//Etoile Sportive de Cannes - ECPv6.3.6//NONSGML v1.0//EN
CALSCALE:GREGORIAN
METHOD:PUBLISH
X-WR-CALNAME:Etoile Sportive de Cannes
X-ORIGINAL-URL:http://etoilesportivedecannes.com
X-WR-CALDESC:évènements pour Etoile Sportive de Cannes
REFRESH-INTERVAL;VALUE=DURATION:PT1H
X-Robots-Tag:noindex
X-PUBLISHED-TTL:PT1H
BEGIN:VTIMEZONE
TZID:Europe/Paris
BEGIN:DAYLIGHT
TZOFFSETFROM:+0100
TZOFFSETTO:+0200
TZNAME:CEST
DTSTART:20200329T010000
END:DAYLIGHT
BEGIN:STANDARD
TZOFFSETFROM:+0200
TZOFFSETTO:+0100
TZNAME:CET
DTSTART:20201025T010000
END:STANDARD
END:VTIMEZONE
BEGIN:VEVENT
DTSTART;TZID=Europe/Paris:20200625T073000
DTEND;TZID=Europe/Paris:20200625T120000
DTSTAMP:20260419T233246
CREATED:20200624T123426Z
LAST-MODIFIED:20200624T123434Z
UID:1574-1593070200-1593086400@etoilesportivedecannes.com
SUMMARY:Groupe 2  Carros village par pont de l Esteron
DESCRIPTION:Cagnes direct / St Laurent /pont de l Esteron  / Carros  / St Jeannet / La Gaude  / Cagnes \n98 Km        DEPART 7H30 MAIRIE \n620 D+ \nhttps://www.strava.com/routes/2710848884500328804
URL:http://etoilesportivedecannes.com/event/groupe-2-carros-village-par-pont-de-l-esteron/
CATEGORIES:SORTIE GROUPE 2
END:VEVENT
END:VCALENDAR