BEGIN:VCALENDAR
VERSION:2.0
PRODID:-//Etoile Sportive de Cannes - ECPv6.3.6//NONSGML v1.0//EN
CALSCALE:GREGORIAN
METHOD:PUBLISH
X-WR-CALNAME:Etoile Sportive de Cannes
X-ORIGINAL-URL:http://etoilesportivedecannes.com
X-WR-CALDESC:évènements pour Etoile Sportive de Cannes
REFRESH-INTERVAL;VALUE=DURATION:PT1H
X-Robots-Tag:noindex
X-PUBLISHED-TTL:PT1H
BEGIN:VTIMEZONE
TZID:Europe/Paris
BEGIN:DAYLIGHT
TZOFFSETFROM:+0100
TZOFFSETTO:+0200
TZNAME:CEST
DTSTART:20200329T010000
END:DAYLIGHT
BEGIN:STANDARD
TZOFFSETFROM:+0200
TZOFFSETTO:+0100
TZNAME:CET
DTSTART:20201025T010000
END:STANDARD
END:VTIMEZONE
BEGIN:VEVENT
DTSTART;TZID=Europe/Paris:20200621T073000
DTEND;TZID=Europe/Paris:20200621T123000
DTSTAMP:20260420T062312
CREATED:20200619T144822Z
LAST-MODIFIED:20200619T144830Z
UID:1570-1592724600-1592742600@etoilesportivedecannes.com
SUMMARY:GR 2 sortie Bagnols en foret
DESCRIPTION:https://www.strava.com/routes/2709070625768413754 \nDEPART  7H30 MAIRIE \nMandelieu / Pégomas / Lou pas  de l ai / Tanneron /St Cassien des bois \nBagnols en foret / retour par le Testanier \n100 Km ////1400 D+
URL:http://etoilesportivedecannes.com/event/gr-2-sortie-bagnols-en-foret/
CATEGORIES:SORTIE GROUPE 2
END:VEVENT
END:VCALENDAR