BEGIN:VCALENDAR
VERSION:2.0
PRODID:-//Etoile Sportive de Cannes - ECPv6.3.6//NONSGML v1.0//EN
CALSCALE:GREGORIAN
METHOD:PUBLISH
X-WR-CALNAME:Etoile Sportive de Cannes
X-ORIGINAL-URL:http://etoilesportivedecannes.com
X-WR-CALDESC:évènements pour Etoile Sportive de Cannes
REFRESH-INTERVAL;VALUE=DURATION:PT1H
X-Robots-Tag:noindex
X-PUBLISHED-TTL:PT1H
BEGIN:VTIMEZONE
TZID:Europe/Paris
BEGIN:DAYLIGHT
TZOFFSETFROM:+0100
TZOFFSETTO:+0200
TZNAME:CEST
DTSTART:20200329T010000
END:DAYLIGHT
BEGIN:STANDARD
TZOFFSETFROM:+0200
TZOFFSETTO:+0100
TZNAME:CET
DTSTART:20201025T010000
END:STANDARD
END:VTIMEZONE
BEGIN:VEVENT
DTSTART;TZID=Europe/Paris:20200614T070000
DTEND;TZID=Europe/Paris:20200614T130000
DTSTAMP:20260420T181946
CREATED:20200612T171058Z
LAST-MODIFIED:20200612T171104Z
UID:1568-1592118000-1592139600@etoilesportivedecannes.com
SUMMARY:Groupe 2 / sortie Gorbio
DESCRIPTION:DEPART 7 Heures Mairie \nNice direct  / Eze  bord de mer  / Monaco  / Menton \nGorbio  / Turbie  / Eze  /moyenne corniche \nNice   / retour direct \nEnviron 135 Km   /  1200 d+
URL:http://etoilesportivedecannes.com/event/groupe-2-sortie-gorbio/
CATEGORIES:SORTIE GROUPE 2
END:VEVENT
END:VCALENDAR