BEGIN:VCALENDAR
VERSION:2.0
PRODID:-//Etoile Sportive de Cannes - ECPv6.3.6//NONSGML v1.0//EN
CALSCALE:GREGORIAN
METHOD:PUBLISH
X-ORIGINAL-URL:http://etoilesportivedecannes.com
X-WR-CALDESC:évènements pour Etoile Sportive de Cannes
REFRESH-INTERVAL;VALUE=DURATION:PT1H
X-Robots-Tag:noindex
X-PUBLISHED-TTL:PT1H
BEGIN:VTIMEZONE
TZID:Europe/Paris
BEGIN:DAYLIGHT
TZOFFSETFROM:+0100
TZOFFSETTO:+0200
TZNAME:CEST
DTSTART:20200329T010000
END:DAYLIGHT
BEGIN:STANDARD
TZOFFSETFROM:+0200
TZOFFSETTO:+0100
TZNAME:CET
DTSTART:20201025T010000
END:STANDARD
END:VTIMEZONE
BEGIN:VEVENT
DTSTART;TZID=Europe/Paris:20200301T080000
DTEND;TZID=Europe/Paris:20200301T123000
DTSTAMP:20260423T194505
CREATED:20200228T115601Z
LAST-MODIFIED:20200228T115606Z
UID:1525-1583049600-1583065800@etoilesportivedecannes.com
SUMMARY:GR 2   Sortie Carros
DESCRIPTION:ATTENTION DEPART 8H PLACE VAUBAN \nhttps://www.strava.com/routes/24114881 \nAntibes direct \nCagnes/st Jeannet/Gattieres (café)/Carros/pont de l Estéron/St Laurent \nretour direct \nEnviron 100 km
URL:http://etoilesportivedecannes.com/event/gr-2-sortie-carros/
CATEGORIES:SORTIE GROUPE 2
END:VEVENT
END:VCALENDAR