BEGIN:VCALENDAR
VERSION:2.0
PRODID:-//Etoile Sportive de Cannes - ECPv6.3.6//NONSGML v1.0//EN
CALSCALE:GREGORIAN
METHOD:PUBLISH
X-WR-CALNAME:Etoile Sportive de Cannes
X-ORIGINAL-URL:http://etoilesportivedecannes.com
X-WR-CALDESC:évènements pour Etoile Sportive de Cannes
REFRESH-INTERVAL;VALUE=DURATION:PT1H
X-Robots-Tag:noindex
X-PUBLISHED-TTL:PT1H
BEGIN:VTIMEZONE
TZID:Europe/Paris
BEGIN:DAYLIGHT
TZOFFSETFROM:+0100
TZOFFSETTO:+0200
TZNAME:CEST
DTSTART:20200329T010000
END:DAYLIGHT
BEGIN:STANDARD
TZOFFSETFROM:+0200
TZOFFSETTO:+0100
TZNAME:CET
DTSTART:20201025T010000
END:STANDARD
END:VTIMEZONE
BEGIN:VEVENT
DTSTART;TZID=Europe/Paris:20200216T083000
DTEND;TZID=Europe/Paris:20200216T123000
DTSTAMP:20260423T212728
CREATED:20200213T184200Z
LAST-MODIFIED:20200213T184205Z
UID:1486-1581841800-1581856200@etoilesportivedecannes.com
SUMMARY:Rassemblement haut de Cagnes  / Groupe 2
DESCRIPTION:https://www.strava.com/routes/23871980 \nRassemblement sur la place du château /prise de carte La Baronne \nst Jeannet par Ste Pétronille /la Gaude /val de Cagnes/Pointage /retour par le Cap Antibes \nenviron 90Km \n700 D+
URL:http://etoilesportivedecannes.com/event/rassemblement-haut-de-cagnes-groupe-2/
CATEGORIES:SORTIE GROUPE 2
END:VEVENT
END:VCALENDAR