BEGIN:VCALENDAR
VERSION:2.0
PRODID:-//Etoile Sportive de Cannes - ECPv6.3.6//NONSGML v1.0//EN
CALSCALE:GREGORIAN
METHOD:PUBLISH
X-WR-CALNAME:Etoile Sportive de Cannes
X-ORIGINAL-URL:http://etoilesportivedecannes.com
X-WR-CALDESC:évènements pour Etoile Sportive de Cannes
REFRESH-INTERVAL;VALUE=DURATION:PT1H
X-Robots-Tag:noindex
X-PUBLISHED-TTL:PT1H
BEGIN:VTIMEZONE
TZID:Europe/Paris
BEGIN:DAYLIGHT
TZOFFSETFROM:+0100
TZOFFSETTO:+0200
TZNAME:CEST
DTSTART:20200329T010000
END:DAYLIGHT
BEGIN:STANDARD
TZOFFSETFROM:+0200
TZOFFSETTO:+0100
TZNAME:CET
DTSTART:20201025T010000
END:STANDARD
END:VTIMEZONE
BEGIN:VEVENT
DTSTART;TZID=Europe/Paris:20200202T083000
DTEND;TZID=Europe/Paris:20200202T123000
DTSTAMP:20260423T211646
CREATED:20200131T173015Z
LAST-MODIFIED:20200131T173703Z
UID:1452-1580632200-1580646600@etoilesportivedecannes.com
SUMMARY:groupe 2 /rassemblement Valbonne
DESCRIPTION:https://www.strava.com/routes/23661627 \nDépart 8h30 Parking sur bord de mer après  l entrée du passage pour La Bocca en venant de Cannes \nEnviron 80 km \ncap d Antibes / vallée verte / rassemblement Valbonne/ Auribeau/ Tanneron par les oliviers /Mandelieu
URL:http://etoilesportivedecannes.com/event/groupe-2-rassemblement-valbonne/
CATEGORIES:SORTIE GROUPE 2
END:VEVENT
END:VCALENDAR