BEGIN:VCALENDAR
VERSION:2.0
PRODID:-//Etoile Sportive de Cannes - ECPv6.3.6//NONSGML v1.0//EN
CALSCALE:GREGORIAN
METHOD:PUBLISH
X-ORIGINAL-URL:http://etoilesportivedecannes.com
X-WR-CALDESC:évènements pour Etoile Sportive de Cannes
REFRESH-INTERVAL;VALUE=DURATION:PT1H
X-Robots-Tag:noindex
X-PUBLISHED-TTL:PT1H
BEGIN:VTIMEZONE
TZID:Europe/Paris
BEGIN:DAYLIGHT
TZOFFSETFROM:+0100
TZOFFSETTO:+0200
TZNAME:CEST
DTSTART:20200329T010000
END:DAYLIGHT
BEGIN:STANDARD
TZOFFSETFROM:+0200
TZOFFSETTO:+0100
TZNAME:CET
DTSTART:20201025T010000
END:STANDARD
END:VTIMEZONE
BEGIN:VEVENT
DTSTART;TZID=Europe/Paris:20200111T160000
DTEND;TZID=Europe/Paris:20200111T180000
DTSTAMP:20260423T225806
CREATED:20191217T184002Z
LAST-MODIFIED:20191217T184204Z
UID:1346-1578758400-1578765600@etoilesportivedecannes.com
SUMMARY:Galette des Rois
DESCRIPTION:  \nLa Grande Salle de Réunion\n  \nStade Maurice CHEVALIER \n2 Av Maurice CHEVALIER \n06150 CANNES La Bocca \n  \nle Samedi  11 Janvier 2020 \nentre 14 H 30 et 18 H 30 \n  \nafin d’y organiser notre traditionnelle \n  \nGalette des Rois \nEt\nVŒUX 2020
URL:http://etoilesportivedecannes.com/event/galette-des-rois/
END:VEVENT
END:VCALENDAR