BEGIN:VCALENDAR
VERSION:2.0
PRODID:-//Etoile Sportive de Cannes - ECPv6.3.6//NONSGML v1.0//EN
CALSCALE:GREGORIAN
METHOD:PUBLISH
X-ORIGINAL-URL:http://etoilesportivedecannes.com
X-WR-CALDESC:évènements pour Etoile Sportive de Cannes
REFRESH-INTERVAL;VALUE=DURATION:PT1H
X-Robots-Tag:noindex
X-PUBLISHED-TTL:PT1H
BEGIN:VTIMEZONE
TZID:Europe/Paris
BEGIN:DAYLIGHT
TZOFFSETFROM:+0100
TZOFFSETTO:+0200
TZNAME:CEST
DTSTART:20190331T010000
END:DAYLIGHT
BEGIN:STANDARD
TZOFFSETFROM:+0200
TZOFFSETTO:+0100
TZNAME:CET
DTSTART:20191027T010000
END:STANDARD
END:VTIMEZONE
BEGIN:VEVENT
DTSTART;TZID=Europe/Paris:20191128T080000
DTEND;TZID=Europe/Paris:20191128T120000
DTSTAMP:20260424T003534
CREATED:20191127T161728Z
LAST-MODIFIED:20191127T161925Z
UID:1278-1574928000-1574942400@etoilesportivedecannes.com
SUMMARY:Départ 8H00 Mairie du  plat pour la Forme ou les Formes
DESCRIPTION:sortie sur Nice
URL:http://etoilesportivedecannes.com/event/1278/
CATEGORIES:SORTIE GROUPE 4
END:VEVENT
END:VCALENDAR