BEGIN:VCALENDAR
VERSION:2.0
PRODID:-//Etoile Sportive de Cannes - ECPv6.3.6//NONSGML v1.0//EN
CALSCALE:GREGORIAN
METHOD:PUBLISH
X-ORIGINAL-URL:http://etoilesportivedecannes.com
X-WR-CALDESC:évènements pour Etoile Sportive de Cannes
REFRESH-INTERVAL;VALUE=DURATION:PT1H
X-Robots-Tag:noindex
X-PUBLISHED-TTL:PT1H
BEGIN:VTIMEZONE
TZID:Europe/Paris
BEGIN:DAYLIGHT
TZOFFSETFROM:+0100
TZOFFSETTO:+0200
TZNAME:CEST
DTSTART:20190331T010000
END:DAYLIGHT
BEGIN:STANDARD
TZOFFSETFROM:+0200
TZOFFSETTO:+0100
TZNAME:CET
DTSTART:20191027T010000
END:STANDARD
END:VTIMEZONE
BEGIN:VEVENT
DTSTART;TZID=Europe/Paris:20191117T083000
DTEND;TZID=Europe/Paris:20191117T123000
DTSTAMP:20260424T021410
CREATED:20191115T151957Z
LAST-MODIFIED:20191115T152005Z
UID:1224-1573979400-1573993800@etoilesportivedecannes.com
SUMMARY:Groupe 2 mont Boron /Villefranche
DESCRIPTION:_8h 30 Mairie pour 95 km-  510 d+     https://www.strava.com/routes/11245709 \nNice par le Cap \nmont Boron  / Villefranche  (café) \nRetour direct pas bord de mer \n 
URL:http://etoilesportivedecannes.com/event/groupe-2-mont-boron-villefranche/
CATEGORIES:SORTIE GROUPE 2
END:VEVENT
END:VCALENDAR