BEGIN:VCALENDAR
VERSION:2.0
PRODID:-//Etoile Sportive de Cannes - ECPv6.3.6//NONSGML v1.0//EN
CALSCALE:GREGORIAN
METHOD:PUBLISH
X-ORIGINAL-URL:http://etoilesportivedecannes.com
X-WR-CALDESC:évènements pour Etoile Sportive de Cannes
REFRESH-INTERVAL;VALUE=DURATION:PT1H
X-Robots-Tag:noindex
X-PUBLISHED-TTL:PT1H
BEGIN:VTIMEZONE
TZID:Europe/Paris
BEGIN:DAYLIGHT
TZOFFSETFROM:+0100
TZOFFSETTO:+0200
TZNAME:CEST
DTSTART:20190331T010000
END:DAYLIGHT
BEGIN:STANDARD
TZOFFSETFROM:+0200
TZOFFSETTO:+0100
TZNAME:CET
DTSTART:20191027T010000
END:STANDARD
END:VTIMEZONE
BEGIN:VEVENT
DTSTART;TZID=Europe/Paris:20191027T073000
DTEND;TZID=Europe/Paris:20191027T123000
DTSTAMP:20260424T040858
CREATED:20191023T171609Z
LAST-MODIFIED:20191023T172520Z
UID:1169-1572161400-1572179400@etoilesportivedecannes.com
SUMMARY:SORTIE GROUPE 2
DESCRIPTION:ATTENTION HEURE D HIVER \nRassemblement mont des mules \nNice/moyenne corniche/Eze/laTurbie  le Defens .Retour meme itineraire \n105 KM / 980 d+ \n  \n  \n 
URL:http://etoilesportivedecannes.com/event/sortie-groupe-2/
END:VEVENT
END:VCALENDAR