BEGIN:VCALENDAR
VERSION:2.0
PRODID:-//Etoile Sportive de Cannes - ECPv6.3.6//NONSGML v1.0//EN
CALSCALE:GREGORIAN
METHOD:PUBLISH
X-WR-CALNAME:Etoile Sportive de Cannes
X-ORIGINAL-URL:http://etoilesportivedecannes.com
X-WR-CALDESC:évènements pour Etoile Sportive de Cannes
REFRESH-INTERVAL;VALUE=DURATION:PT1H
X-Robots-Tag:noindex
X-PUBLISHED-TTL:PT1H
BEGIN:VTIMEZONE
TZID:Europe/Paris
BEGIN:DAYLIGHT
TZOFFSETFROM:+0100
TZOFFSETTO:+0200
TZNAME:CEST
DTSTART:20190331T010000
END:DAYLIGHT
BEGIN:STANDARD
TZOFFSETFROM:+0200
TZOFFSETTO:+0100
TZNAME:CET
DTSTART:20191027T010000
END:STANDARD
END:VTIMEZONE
BEGIN:VEVENT
DTSTART;TZID=Europe/Paris:20191010T080000
DTEND;TZID=Europe/Paris:20191013T170000
DTSTAMP:20260424T034800
CREATED:20190517T060124Z
LAST-MODIFIED:20190517T060124Z
UID:953-1570694400-1570986000@etoilesportivedecannes.com
SUMMARY:ROC AZUR à Fréjus
DESCRIPTION:
URL:http://etoilesportivedecannes.com/event/roc-azur-a-frejus/
END:VEVENT
END:VCALENDAR