BEGIN:VCALENDAR
VERSION:2.0
PRODID:-//Etoile Sportive de Cannes - ECPv6.3.6//NONSGML v1.0//EN
CALSCALE:GREGORIAN
METHOD:PUBLISH
X-WR-CALNAME:Etoile Sportive de Cannes
X-ORIGINAL-URL:http://etoilesportivedecannes.com
X-WR-CALDESC:évènements pour Etoile Sportive de Cannes
REFRESH-INTERVAL;VALUE=DURATION:PT1H
X-Robots-Tag:noindex
X-PUBLISHED-TTL:PT1H
BEGIN:VTIMEZONE
TZID:Europe/Paris
BEGIN:DAYLIGHT
TZOFFSETFROM:+0100
TZOFFSETTO:+0200
TZNAME:CEST
DTSTART:20190331T010000
END:DAYLIGHT
BEGIN:STANDARD
TZOFFSETFROM:+0200
TZOFFSETTO:+0100
TZNAME:CET
DTSTART:20191027T010000
END:STANDARD
END:VTIMEZONE
BEGIN:VEVENT
DTSTART;TZID=Europe/Paris:20190921T080000
DTEND;TZID=Europe/Paris:20190921T170000
DTSTAMP:20260424T052113
CREATED:20190405T122647Z
LAST-MODIFIED:20190405T122647Z
UID:677-1569052800-1569085200@etoilesportivedecannes.com
SUMMARY:SORTIE LES COPAINS D'ABORD - Septembre - groupe 3 par Marc LAENEN
DESCRIPTION:Cannes – Caussols – Gourdon – Cannes  95km – repas Caussols \nreportée au 28 si mauvais temps
URL:http://etoilesportivedecannes.com/event/sortie-les-copains-dabord-septembre-groupe-3-par-marc-laenen/
END:VEVENT
END:VCALENDAR