BEGIN:VCALENDAR
VERSION:2.0
PRODID:-//Etoile Sportive de Cannes - ECPv6.3.6//NONSGML v1.0//EN
CALSCALE:GREGORIAN
METHOD:PUBLISH
X-WR-CALNAME:Etoile Sportive de Cannes
X-ORIGINAL-URL:http://etoilesportivedecannes.com
X-WR-CALDESC:évènements pour Etoile Sportive de Cannes
REFRESH-INTERVAL;VALUE=DURATION:PT1H
X-Robots-Tag:noindex
X-PUBLISHED-TTL:PT1H
BEGIN:VTIMEZONE
TZID:Europe/Paris
BEGIN:DAYLIGHT
TZOFFSETFROM:+0100
TZOFFSETTO:+0200
TZNAME:CEST
DTSTART:20190331T010000
END:DAYLIGHT
BEGIN:STANDARD
TZOFFSETFROM:+0200
TZOFFSETTO:+0100
TZNAME:CET
DTSTART:20191027T010000
END:STANDARD
END:VTIMEZONE
BEGIN:VEVENT
DTSTART;TZID=Europe/Paris:20190721T080000
DTEND;TZID=Europe/Paris:20190721T170000
DTSTAMP:20260424T083902
CREATED:20190415T093634Z
LAST-MODIFIED:20190415T094227Z
UID:764-1563696000-1563728400@etoilesportivedecannes.com
SUMMARY:ETAPE DU TOUR - ALBERTVILLE - VAL THORENS
DESCRIPTION:Merci aux engagés de se faire connaitre pour pouvoir essayer d’organiser un rv convivial avant la course. Contacter Alain Prosper : a1.prosper@orange.fr merci \nhttp://www.letapedutour.com/fr
URL:http://etoilesportivedecannes.com/event/boucles-du-verdon-cyclosportive/
END:VEVENT
END:VCALENDAR